BEGIN:VCALENDAR
VERSION:2.0
PRODID:SchoolNow
CALSCALE:GREGORIAN
BEGIN:VEVENT
UID:d9a9f148-8f98-11f0-8484-0e48ac19f595
DTSTAMP:20251216T154145Z
SUMMARY:Track @ MCPS
URL;VALUE=URI:https://www.polson.k12.mt.us/polson-high-school/athletics/cal
 endar/8612088/track-mcps
DTSTART;VALUE=DATE:20260411
DTEND;VALUE=DATE:20260412
END:VEVENT
END:VCALENDAR
