BEGIN:VCALENDAR
VERSION:2.0
PRODID:SchoolNow
CALSCALE:GREGORIAN
BEGIN:VEVENT
UID:d9a9ed6a-8f98-11f0-b745-0e48ac19f595
DTSTAMP:20251216T154145Z
SUMMARY:Track @ Bigfork
URL;VALUE=URI:https://www.polson.k12.mt.us/polson-high-school/athletics/cal
 endar/8612085/track-bigfork
DTSTART;VALUE=DATE:20260404
DTEND;VALUE=DATE:20260405
END:VEVENT
END:VCALENDAR
