BEGIN:VCALENDAR
VERSION:2.0
PRODID:SchoolNow
CALSCALE:GREGORIAN
BEGIN:VEVENT
UID:d9a9e338-8f98-11f0-b7cb-0e48ac19f595
DTSTAMP:20251216T154146Z
SUMMARY:State BBall
URL;VALUE=URI:https://www.polson.k12.mt.us/polson-high-school/athletics/cal
 endar/8612077/state-bball
DTSTART;VALUE=DATE:20260312
DTEND;VALUE=DATE:20260315
END:VEVENT
END:VCALENDAR
