BEGIN:VCALENDAR
VERSION:2.0
PRODID:SchoolNow
CALSCALE:GREGORIAN
BEGIN:VEVENT
UID:d9a9e0a4-8f98-11f0-9979-0e48ac19f595
DTSTAMP:20251216T154145Z
SUMMARY:BBall Divisional Play-In
URL;VALUE=URI:https://www.polson.k12.mt.us/polson-high-school/athletics/cal
 endar/8612074/bball-divisional-play-in
DTSTART;VALUE=DATE:20260226
DTEND;VALUE=DATE:20260227
END:VEVENT
END:VCALENDAR
