BEGIN:VCALENDAR
VERSION:2.0
PRODID:SchoolNow
CALSCALE:GREGORIAN
BEGIN:VEVENT
UID:d9a9dfc8-8f98-11f0-8ff1-0e48ac19f595
DTSTAMP:20251216T154146Z
SUMMARY:BBall @ Browning
LOCATION:Browning\, MT 59417\, USA
URL;VALUE=URI:https://www.polson.k12.mt.us/polson-high-school/athletics/cal
 endar/8612073/bball-browning
DTSTART:20260221T180000Z
DTEND:20260222T000000Z
END:VEVENT
END:VCALENDAR
