BEGIN:VCALENDAR
VERSION:2.0
PRODID:SchoolNow
CALSCALE:GREGORIAN
BEGIN:VEVENT
UID:d9a9dd34-8f98-11f0-a75c-0e48ac19f595
DTSTAMP:20251216T154146Z
SUMMARY:BBall @ Ronan
LOCATION:Ronan High School\, 130 Third Ave NW\, Ronan\, MT 59864\, USA
URL;VALUE=URI:https://www.polson.k12.mt.us/polson-high-school/athletics/cal
 endar/8612070/bball-ronan
DTSTART:20260214T190000Z
DTEND:20260215T010000Z
END:VEVENT
END:VCALENDAR
