BEGIN:VCALENDAR
VERSION:2.0
PRODID:SchoolNow
CALSCALE:GREGORIAN
BEGIN:VEVENT
UID:d9a9db5e-8f98-11f0-9bac-0e48ac19f595
DTSTAMP:20251216T154146Z
SUMMARY:WR @ Divisionals
LOCATION:Beaverhead County High School\, 104 N Pacific St\, Dillon\, MT 597
 25\, USA
URL;VALUE=URI:https://www.polson.k12.mt.us/polson-high-school/athletics/cal
 endar/8612068/wr-divisionals
DTSTART;VALUE=DATE:20260213
DTEND;VALUE=DATE:20260215
END:VEVENT
END:VCALENDAR
