BEGIN:VCALENDAR
VERSION:2.0
PRODID:SchoolNow
CALSCALE:GREGORIAN
BEGIN:VEVENT
UID:d9a9da82-8f98-11f0-aabf-0e48ac19f595
DTSTAMP:20251216T154146Z
SUMMARY:S&D @ NSDA
LOCATION:Missoula\, Mount\, Missoula\, MT\, MT\, USA
URL;VALUE=URI:https://www.polson.k12.mt.us/polson-high-school/athletics/cal
 endar/8612067/s-d-nsda
DTSTART;VALUE=DATE:20260213
DTEND;VALUE=DATE:20260215
END:VEVENT
END:VCALENDAR
