BEGIN:VCALENDAR
VERSION:2.0
PRODID:SchoolNow
CALSCALE:GREGORIAN
BEGIN:VEVENT
UID:d9a9d7f8-8f98-11f0-82db-0e48ac19f595
DTSTAMP:20251216T154145Z
SUMMARY:WR @ CFalls
LOCATION:Columbia Falls High School\, 610 13th St W\, Columbia Falls\, MT 5
 9912\, USA
URL;VALUE=URI:https://www.polson.k12.mt.us/polson-high-school/athletics/cal
 endar/8612064/wr-cfalls
DTSTART:20260207T170000Z
DTEND:20260207T230000Z
END:VEVENT
END:VCALENDAR
