BEGIN:VCALENDAR
VERSION:2.0
PRODID:SchoolNow
CALSCALE:GREGORIAN
BEGIN:VEVENT
UID:d9a9d71c-8f98-11f0-a53a-0e48ac19f595
DTSTAMP:20251216T154145Z
SUMMARY:BBall vs Libby
URL;VALUE=URI:https://www.polson.k12.mt.us/polson-high-school/athletics/cal
 endar/8612063/bball-vs-libby
DTSTART:20260207T200000Z
DTEND:20260208T020000Z
END:VEVENT
END:VCALENDAR
