BEGIN:VCALENDAR
VERSION:2.0
PRODID:SchoolNow
CALSCALE:GREGORIAN
BEGIN:VEVENT
UID:d9a9d640-8f98-11f0-869a-0e48ac19f595
DTSTAMP:20251216T154146Z
SUMMARY:BBB vs Bigfork
LOCATION:LIND-1-Linderman Gym (1600)
URL;VALUE=URI:https://www.polson.k12.mt.us/polson-high-school/athletics/cal
 endar/8612062/bbb-vs-bigfork
DTSTART:20260205T231500Z
DTEND:20260206T034500Z
END:VEVENT
END:VCALENDAR
