BEGIN:VCALENDAR
VERSION:2.0
PRODID:SchoolNow
CALSCALE:GREGORIAN
BEGIN:VEVENT
UID:d9a9d564-8f98-11f0-8a66-0e48ac19f595
DTSTAMP:20251216T154145Z
SUMMARY:WR @ Corvallis
URL;VALUE=URI:https://www.polson.k12.mt.us/polson-high-school/athletics/cal
 endar/8612061/wr-corvallis
DTSTART:20260206T000000Z
DTEND:20260206T030000Z
END:VEVENT
END:VCALENDAR
