BEGIN:VCALENDAR
VERSION:2.0
PRODID:SchoolNow
CALSCALE:GREGORIAN
BEGIN:VEVENT
UID:d9a9d492-8f98-11f0-86b4-0e48ac19f595
DTSTAMP:20251216T154145Z
SUMMARY:GWR @ Libby vs Bonners Ferry
URL;VALUE=URI:https://www.polson.k12.mt.us/polson-high-school/athletics/cal
 endar/8612060/gwr-libby-vs-bonners-ferry
DTSTART;VALUE=DATE:20260203
DTEND;VALUE=DATE:20260204
END:VEVENT
END:VCALENDAR
