BEGIN:VCALENDAR
VERSION:2.0
PRODID:SchoolNow
CALSCALE:GREGORIAN
BEGIN:VEVENT
UID:d9a9d208-8f98-11f0-b1c8-0e48ac19f595
DTSTAMP:20251216T154145Z
SUMMARY:BWR @ Class A Duals
LOCATION:Butte Civic Center\, 1340 Harrison Ave\, Butte\, MT 59701\, USA
URL;VALUE=URI:https://www.polson.k12.mt.us/polson-high-school/athletics/cal
 endar/8612057/bwr-class-a-duals
DTSTART;VALUE=DATE:20260130
DTEND;VALUE=DATE:20260201
END:VEVENT
END:VCALENDAR
