BEGIN:VCALENDAR
VERSION:2.0
PRODID:SchoolNow
CALSCALE:GREGORIAN
BEGIN:VEVENT
UID:d9a9d050-8f98-11f0-b95a-0e48ac19f595
DTSTAMP:20251216T154145Z
SUMMARY:GWR @ Hamilton
LOCATION:Hamilton High School\, 327 Fairgrounds Rd\, Hamilton\, MT 59840\, 
 USA
URL;VALUE=URI:https://www.polson.k12.mt.us/polson-high-school/athletics/cal
 endar/8612055/gwr-hamilton
DTSTART;VALUE=DATE:20260127
DTEND;VALUE=DATE:20260128
END:VEVENT
END:VCALENDAR
