BEGIN:VCALENDAR
VERSION:2.0
PRODID:SchoolNow
CALSCALE:GREGORIAN
BEGIN:VEVENT
UID:d9a9cf74-8f98-11f0-8d6c-0e48ac19f595
DTSTAMP:20251216T154145Z
SUMMARY:GBB vs Whitefish
LOCATION:LIND-1-Linderman Gym (1600)
URL;VALUE=URI:https://www.polson.k12.mt.us/polson-high-school/athletics/cal
 endar/8612054/gbb-vs-whitefish
DTSTART:20260127T231500Z
DTEND:20260128T034500Z
END:VEVENT
END:VCALENDAR
