BEGIN:VCALENDAR
VERSION:2.0
PRODID:SchoolNow
CALSCALE:GREGORIAN
BEGIN:VEVENT
UID:d9a9ccea-8f98-11f0-be36-0e48ac19f595
DTSTAMP:20251216T154146Z
SUMMARY:BBall vs Ronan
LOCATION:PHS-1-PHS Gymnasium (500)\, LIND-1-Linderman Gym (1600)
URL;VALUE=URI:https://www.polson.k12.mt.us/polson-high-school/athletics/cal
 endar/8612051/bball-vs-ronan
DTSTART:20260124T190000Z
DTEND:20260125T010000Z
END:VEVENT
END:VCALENDAR
