BEGIN:VCALENDAR
VERSION:2.0
PRODID:SchoolNow
CALSCALE:GREGORIAN
BEGIN:VEVENT
UID:d9a9cc0e-8f98-11f0-a601-0e48ac19f595
DTSTAMP:20251216T154145Z
SUMMARY:WR @ Frenchtown
LOCATION:Frenchtown Junior High School\, 17620 Frenchtown Frontage Rd\, Fre
 nchtown\, MT 59834\, USA
URL;VALUE=URI:https://www.polson.k12.mt.us/polson-high-school/athletics/cal
 endar/8612050/wr-frenchtown
DTSTART:20260123T000000Z
DTEND:20260123T040000Z
END:VEVENT
END:VCALENDAR
