BEGIN:VCALENDAR
VERSION:2.0
PRODID:SchoolNow
CALSCALE:GREGORIAN
BEGIN:VEVENT
UID:d9a9ca60-8f98-11f0-ae2e-0e48ac19f595
DTSTAMP:20251216T154146Z
SUMMARY:BBB vs CFalls
LOCATION:LIND-1-Linderman Gym (1600)
URL;VALUE=URI:https://www.polson.k12.mt.us/polson-high-school/athletics/cal
 endar/8612048/bbb-vs-cfalls
DTSTART:20260120T231500Z
DTEND:20260121T034500Z
END:VEVENT
END:VCALENDAR
