BEGIN:VCALENDAR
VERSION:2.0
PRODID:SchoolNow
CALSCALE:GREGORIAN
BEGIN:VEVENT
UID:d9a9c89e-8f98-11f0-b93e-0e48ac19f595
DTSTAMP:20251216T154146Z
SUMMARY:GWR @ Hellgate Invite
LOCATION:Hellgate High School\, 900 S Higgins Ave\, Missoula\, MT 59801\, U
 SA
URL;VALUE=URI:https://www.polson.k12.mt.us/polson-high-school/athletics/cal
 endar/8612046/gwr-hellgate-invite
DTSTART;VALUE=DATE:20260116
DTEND;VALUE=DATE:20260118
END:VEVENT
END:VCALENDAR
