BEGIN:VCALENDAR
VERSION:2.0
PRODID:SchoolNow
CALSCALE:GREGORIAN
BEGIN:VEVENT
UID:d9a9c7c2-8f98-11f0-8f62-0e48ac19f595
DTSTAMP:20251216T154146Z
SUMMARY:BWR @ Jug Beck RMC
LOCATION:Sentinel High School\, 901 South Ave W #7910\, Missoula\, MT 59801
 \, USA
URL;VALUE=URI:https://www.polson.k12.mt.us/polson-high-school/athletics/cal
 endar/8612045/bwr-jug-beck-rmc
DTSTART;VALUE=DATE:20260116
DTEND;VALUE=DATE:20260118
END:VEVENT
END:VCALENDAR
