BEGIN:VCALENDAR
VERSION:2.0
PRODID:SchoolNow
CALSCALE:GREGORIAN
BEGIN:VEVENT
UID:d9a9c290-8f98-11f0-9a73-0e48ac19f595
DTSTAMP:20251216T154146Z
SUMMARY:WR vs Whitefish\, CFalls\, Ronan
LOCATION:PHS-1-PHS Gymnasium (500)
URL;VALUE=URI:https://www.polson.k12.mt.us/polson-high-school/athletics/cal
 endar/8612039/wr-vs-whitefish-cfalls-ronan
DTSTART:20260116T000000Z
DTEND:20260116T040000Z
END:VEVENT
END:VCALENDAR
