BEGIN:VCALENDAR
VERSION:2.0
PRODID:SchoolNow
CALSCALE:GREGORIAN
BEGIN:VEVENT
UID:d9a9c1b4-8f98-11f0-88fd-0e48ac19f595
DTSTAMP:20251216T154145Z
SUMMARY:BBB @ Bigfork
LOCATION:Bigfork High School\, 600 Commerce St\, Bigfork\, MT 59911\, USA
URL;VALUE=URI:https://www.polson.k12.mt.us/polson-high-school/athletics/cal
 endar/8612038/bbb-bigfork
DTSTART:20260113T231500Z
DTEND:20260114T034500Z
END:VEVENT
END:VCALENDAR
