BEGIN:VCALENDAR
VERSION:2.0
PRODID:SchoolNow
CALSCALE:GREGORIAN
BEGIN:VEVENT
UID:d9a9bffc-8f98-11f0-a62f-0e48ac19f595
DTSTAMP:20251216T154146Z
SUMMARY:S&D @ Bigfork
LOCATION:Hamilton High School\, 327 Fairgrounds Rd\, Hamilton\, MT 59840\, 
 USA
URL;VALUE=URI:https://www.polson.k12.mt.us/polson-high-school/athletics/cal
 endar/8612036/s-d-bigfork
DTSTART;VALUE=DATE:20260110
DTEND;VALUE=DATE:20260111
END:VEVENT
END:VCALENDAR
