BEGIN:VCALENDAR
VERSION:2.0
PRODID:SchoolNow
CALSCALE:GREGORIAN
BEGIN:VEVENT
UID:d9a9bf16-8f98-11f0-bd9e-0e48ac19f595
DTSTAMP:20251216T154146Z
SUMMARY:B&G WR @ Ronan Invite
LOCATION:Ronan High School\, 130 Third Ave NW\, Ronan\, MT 59864\, USA
URL;VALUE=URI:https://www.polson.k12.mt.us/polson-high-school/athletics/cal
 endar/8612035/b-g-wr-ronan-invite
DTSTART;VALUE=DATE:20260109
DTEND;VALUE=DATE:20260111
END:VEVENT
END:VCALENDAR
