BEGIN:VCALENDAR
VERSION:2.0
PRODID:SchoolNow
CALSCALE:GREGORIAN
BEGIN:VEVENT
UID:d9a9be12-8f98-11f0-95ac-0e48ac19f595
DTSTAMP:20251216T154146Z
SUMMARY:WR @ Corvallis Invite
LOCATION:Corvallis High School\, 1045 Main St\, Corvallis\, MT 59828\, USA
URL;VALUE=URI:https://www.polson.k12.mt.us/polson-high-school/athletics/cal
 endar/8612034/wr-corvallis-invite
DTSTART;VALUE=DATE:20251220
DTEND;VALUE=DATE:20251221
END:VEVENT
END:VCALENDAR
