BEGIN:VCALENDAR
VERSION:2.0
PRODID:SchoolNow
CALSCALE:GREGORIAN
BEGIN:VEVENT
UID:d9a9bc28-8f98-11f0-8031-0e48ac19f595
DTSTAMP:20251216T154146Z
SUMMARY:BBall @ E/W Tip-Off
LOCATION:Hamilton High School\, 327 Fairgrounds Rd\, Hamilton\, MT 59840\, 
 USA
URL;VALUE=URI:https://www.polson.k12.mt.us/polson-high-school/athletics/cal
 endar/8612032/bball-e-w-tip-off
DTSTART;VALUE=DATE:20251219
DTEND;VALUE=DATE:20251221
END:VEVENT
END:VCALENDAR
