BEGIN:VCALENDAR
VERSION:2.0
PRODID:SchoolNow
CALSCALE:GREGORIAN
BEGIN:VEVENT
UID:d9a9ba66-8f98-11f0-b9a0-0e48ac19f595
DTSTAMP:20251216T154146Z
SUMMARY:BWR/GWR vs Ronan
LOCATION:PHS-1-PHS Gymnasium (500)
URL;VALUE=URI:https://www.polson.k12.mt.us/polson-high-school/athletics/cal
 endar/8612030/bwr-gwr-vs-ronan
DTSTART:20251217T010000Z
DTEND:20251217T040000Z
END:VEVENT
END:VCALENDAR
