BEGIN:VCALENDAR
VERSION:2.0
PRODID:SchoolNow
CALSCALE:GREGORIAN
BEGIN:VEVENT
UID:d9a9b980-8f98-11f0-aa40-0e48ac19f595
DTSTAMP:20251216T154145Z
SUMMARY:S&D @ East Helena
LOCATION:East Helena High School\, 2760 Valley Dr\, East Helena\, MT 59635\
 , USA
URL;VALUE=URI:https://www.polson.k12.mt.us/polson-high-school/athletics/cal
 endar/8612029/s-d-east-helena
DTSTART;VALUE=DATE:20251213
DTEND;VALUE=DATE:20251214
END:VEVENT
END:VCALENDAR
