BEGIN:VCALENDAR
VERSION:2.0
PRODID:SchoolNow
CALSCALE:GREGORIAN
BEGIN:VEVENT
UID:d9a9b890-8f98-11f0-b65b-0e48ac19f595
DTSTAMP:20251216T154146Z
SUMMARY:GWR @ Flathead Invite
URL;VALUE=URI:https://www.polson.k12.mt.us/polson-high-school/athletics/cal
 endar/8612028/gwr-flathead-invite
DTSTART;VALUE=DATE:20251212
DTEND;VALUE=DATE:20251214
END:VEVENT
END:VCALENDAR
