BEGIN:VCALENDAR
VERSION:2.0
PRODID:SchoolNow
CALSCALE:GREGORIAN
BEGIN:VEVENT
UID:d9a9b7aa-8f98-11f0-9f57-0e48ac19f595
DTSTAMP:20251216T154146Z
SUMMARY:BWR @ Jim Street Classic Mining City Duals
LOCATION:Butte Civic Center\, 1340 Harrison Ave\, Butte\, MT 59701\, USA
URL;VALUE=URI:https://www.polson.k12.mt.us/polson-high-school/athletics/cal
 endar/8612027/bwr-jim-street-classic-mining-city-duals
DTSTART;VALUE=DATE:20251212
DTEND;VALUE=DATE:20251214
END:VEVENT
END:VCALENDAR
