BEGIN:VCALENDAR
VERSION:2.0
PRODID:SchoolNow
CALSCALE:GREGORIAN
BEGIN:VEVENT
UID:d9a9b6ba-8f98-11f0-908a-0e48ac19f595
DTSTAMP:20251216T154146Z
SUMMARY:BWR JV Mixer
LOCATION:Arlee High School\, 72220 Fyant St\, Arlee\, MT 59821\, USA
URL;VALUE=URI:https://www.polson.k12.mt.us/polson-high-school/athletics/cal
 endar/8612026/bwr-jv-mixer
DTSTART:20251212T000000Z
DTEND:20251212T030000Z
END:VEVENT
END:VCALENDAR
