BEGIN:VCALENDAR
VERSION:2.0
PRODID:SchoolNow
CALSCALE:GREGORIAN
BEGIN:VEVENT
UID:d9a9b5b6-8f98-11f0-85d8-0e48ac19f595
DTSTAMP:20251216T154146Z
SUMMARY:Frosh BB Tip Off
LOCATION:LIND-1-Linderman Gym (1600)
URL;VALUE=URI:https://www.polson.k12.mt.us/polson-high-school/athletics/cal
 endar/8612025/frosh-bb-tip-off
DTSTART:20251211T070000Z
DTEND:20251212T070000Z
END:VEVENT
END:VCALENDAR
