BEGIN:VCALENDAR
VERSION:2.0
PRODID:SchoolNow
CALSCALE:GREGORIAN
BEGIN:VEVENT
UID:d9a9b34a-8f98-11f0-b6ab-0e48ac19f595
DTSTAMP:20251216T154145Z
SUMMARY:B&G WR @ Owen Invite
LOCATION:LIND-1-Linderman Gym (1600)
URL;VALUE=URI:https://www.polson.k12.mt.us/polson-high-school/athletics/cal
 endar/8612023/b-g-wr-owen-invite
DTSTART:20251205T070000Z
DTEND:20251207T070000Z
END:VEVENT
END:VCALENDAR
