BEGIN:VCALENDAR
VERSION:2.0
PRODID:SchoolNow
CALSCALE:GREGORIAN
BEGIN:VEVENT
UID:d9a9af4e-8f98-11f0-a0ce-0e48ac19f595
DTSTAMP:20251216T154145Z
SUMMARY:First Day of Winter Sports
URL;VALUE=URI:https://www.polson.k12.mt.us/polson-high-school/athletics/cal
 endar/8612022/first-day-of-winter-sports
DTSTART;VALUE=DATE:20251120
DTEND;VALUE=DATE:20251121
END:VEVENT
END:VCALENDAR
