BEGIN:VCALENDAR
VERSION:2.0
PRODID:SchoolNow
CALSCALE:GREGORIAN
BEGIN:VEVENT
UID:d972cfba-8f98-11f0-972a-0e48ac19f595
DTSTAMP:20251216T154146Z
SUMMARY:S&D @ Stevensville
URL;VALUE=URI:https://www.polson.k12.mt.us/polson-high-school/athletics/cal
 endar/8612015/s-d-stevensville
DTSTART;VALUE=DATE:20251115
DTEND;VALUE=DATE:20251116
END:VEVENT
END:VCALENDAR
