BEGIN:VCALENDAR
VERSION:2.0
PRODID:SchoolNow
CALSCALE:GREGORIAN
BEGIN:VEVENT
UID:d972cede-8f98-11f0-8ecc-0e48ac19f595
DTSTAMP:20251216T154146Z
SUMMARY:S&D @ Whitefish
URL;VALUE=URI:https://www.polson.k12.mt.us/polson-high-school/athletics/cal
 endar/8612014/s-d-whitefish
DTSTART;VALUE=DATE:20251108
DTEND;VALUE=DATE:20251109
END:VEVENT
END:VCALENDAR
