BEGIN:VCALENDAR
VERSION:2.0
PRODID:SchoolNow
CALSCALE:GREGORIAN
BEGIN:VEVENT
UID:d972cdf8-8f98-11f0-b1f9-0e48ac19f595
DTSTAMP:20251216T154145Z
SUMMARY:S&D @ Missoula
URL;VALUE=URI:https://www.polson.k12.mt.us/polson-high-school/athletics/cal
 endar/8612013/s-d-missoula
DTSTART;VALUE=DATE:20251101
DTEND;VALUE=DATE:20251102
END:VEVENT
END:VCALENDAR
