BEGIN:VCALENDAR
VERSION:2.0
PRODID:SchoolNow
CALSCALE:GREGORIAN
BEGIN:VEVENT
UID:d972cc40-8f98-11f0-af42-0e48ac19f595
DTSTAMP:20251216T154145Z
SUMMARY:VB @ Bigfork
LOCATION:Bigfork High School\, 600 Commerce St\, Bigfork\, MT 59911\, USA
URL;VALUE=URI:https://www.polson.k12.mt.us/polson-high-school/athletics/cal
 endar/8612011/vb-bigfork
DTSTART:20251028T221500Z
DTEND:20251029T024500Z
END:VEVENT
END:VCALENDAR
