BEGIN:VCALENDAR
VERSION:2.0
PRODID:SchoolNow
CALSCALE:GREGORIAN
BEGIN:VEVENT
UID:d972cb5a-8f98-11f0-9f04-0e48ac19f595
DTSTAMP:20251216T154145Z
SUMMARY:XC @ State
LOCATION:University of Montana\, 32 Campus Dr\, Missoula\, MT 59812\, USA
URL;VALUE=URI:https://www.polson.k12.mt.us/polson-high-school/athletics/cal
 endar/8612010/xc-state
DTSTART;VALUE=DATE:20251025
DTEND;VALUE=DATE:20251026
END:VEVENT
END:VCALENDAR
