BEGIN:VCALENDAR
VERSION:2.0
PRODID:SchoolNow
CALSCALE:GREGORIAN
BEGIN:VEVENT
UID:d972ca7e-8f98-11f0-a788-0e48ac19f595
DTSTAMP:20251216T154145Z
SUMMARY:FB vs Ronan
LOCATION:PHS-1-Stadium (5000)
URL;VALUE=URI:https://www.polson.k12.mt.us/polson-high-school/athletics/cal
 endar/8612009/fb-vs-ronan
DTSTART:20251025T010000Z
DTEND:20251025T040000Z
END:VEVENT
END:VCALENDAR
