BEGIN:VCALENDAR
VERSION:2.0
PRODID:SchoolNow
CALSCALE:GREGORIAN
BEGIN:VEVENT
UID:d972c998-8f98-11f0-965c-0e48ac19f595
DTSTAMP:20251216T154146Z
SUMMARY:VB @ Libby
LOCATION:Libby High School\, Libby\, MT 59923\, USA
URL;VALUE=URI:https://www.polson.k12.mt.us/polson-high-school/athletics/cal
 endar/8612008/vb-libby
DTSTART:20251023T221500Z
DTEND:20251024T024500Z
END:VEVENT
END:VCALENDAR
