BEGIN:VCALENDAR
VERSION:2.0
PRODID:SchoolNow
CALSCALE:GREGORIAN
BEGIN:VEVENT
UID:d972c8b2-8f98-11f0-a63b-0e48ac19f595
DTSTAMP:20251216T154145Z
SUMMARY:VB @ Whitefish
LOCATION:Whitefish High School\, 1143 4th St\, Whitefish\, MT 59937\, USA
URL;VALUE=URI:https://www.polson.k12.mt.us/polson-high-school/athletics/cal
 endar/8612007/vb-whitefish
DTSTART:20251021T221500Z
DTEND:20251022T024500Z
END:VEVENT
END:VCALENDAR
