BEGIN:VCALENDAR
VERSION:2.0
PRODID:SchoolNow
CALSCALE:GREGORIAN
BEGIN:VEVENT
UID:d972c7d6-8f98-11f0-b738-0e48ac19f595
DTSTAMP:20251216T154145Z
SUMMARY:JV FB vs Columbia Falls
LOCATION:PHS-1-Stadium (5000)
URL;VALUE=URI:https://www.polson.k12.mt.us/polson-high-school/athletics/cal
 endar/8612006/jv-fb-vs-columbia-falls
DTSTART:20251020T230000Z
DTEND:20251021T013000Z
END:VEVENT
END:VCALENDAR
