BEGIN:VCALENDAR
VERSION:2.0
PRODID:SchoolNow
CALSCALE:GREGORIAN
BEGIN:VEVENT
UID:d972c6f0-8f98-11f0-ba9d-0e48ac19f595
DTSTAMP:20251216T154145Z
SUMMARY:VB vs Browning
LOCATION:LIND-1-Linderman Gym (1600)
URL;VALUE=URI:https://www.polson.k12.mt.us/polson-high-school/athletics/cal
 endar/8612005/vb-vs-browning
DTSTART:20251014T221500Z
DTEND:20251015T024500Z
END:VEVENT
END:VCALENDAR
