BEGIN:VCALENDAR
VERSION:2.0
PRODID:SchoolNow
CALSCALE:GREGORIAN
BEGIN:VEVENT
UID:d972c60a-8f98-11f0-ba17-0e48ac19f595
DTSTAMP:20251216T154145Z
SUMMARY:XC @ Fall Classic
LOCATION:Hamilton\, MT 59840\, USA
URL;VALUE=URI:https://www.polson.k12.mt.us/polson-high-school/athletics/cal
 endar/8612004/xc-fall-classic
DTSTART:20251017T200000Z
DTEND:20251017T220000Z
END:VEVENT
END:VCALENDAR
