BEGIN:VCALENDAR
VERSION:2.0
PRODID:SchoolNow
CALSCALE:GREGORIAN
BEGIN:VEVENT
UID:d972c51a-8f98-11f0-9ecd-0e48ac19f595
DTSTAMP:20251216T154146Z
SUMMARY:FB @ Columbia Falls
LOCATION:Columbia Falls High School\, 610 13th St W\, Columbia Falls\, MT 5
 9912\, USA
URL;VALUE=URI:https://www.polson.k12.mt.us/polson-high-school/athletics/cal
 endar/8612003/fb-columbia-falls
DTSTART:20251018T010000Z
DTEND:20251018T040000Z
END:VEVENT
END:VCALENDAR
