BEGIN:VCALENDAR
VERSION:2.0
PRODID:SchoolNow
CALSCALE:GREGORIAN
BEGIN:VEVENT
UID:d972c33a-8f98-11f0-a2ff-0e48ac19f595
DTSTAMP:20251216T154145Z
SUMMARY:JV FB @ Bigfork
LOCATION:Bigfork High School\, 600 Commerce St\, Bigfork\, MT 59911\, USA
URL;VALUE=URI:https://www.polson.k12.mt.us/polson-high-school/athletics/cal
 endar/8612001/jv-fb-bigfork
DTSTART:20251013T230000Z
DTEND:20251014T013000Z
END:VEVENT
END:VCALENDAR
