BEGIN:VCALENDAR
VERSION:2.0
PRODID:SchoolNow
CALSCALE:GREGORIAN
BEGIN:VEVENT
UID:d972c254-8f98-11f0-96fe-0e48ac19f595
DTSTAMP:20251216T154146Z
SUMMARY:S&D @ Workshop
LOCATION:Bigfork High School\, 600 Commerce St\, Bigfork\, MT 59911\, USA
URL;VALUE=URI:https://www.polson.k12.mt.us/polson-high-school/athletics/cal
 endar/8612000/s-d-workshop
DTSTART:20251011T160000Z
DTEND:20251011T200000Z
END:VEVENT
END:VCALENDAR
