BEGIN:VCALENDAR
VERSION:2.0
PRODID:SchoolNow
CALSCALE:GREGORIAN
BEGIN:VEVENT
UID:d972c164-8f98-11f0-9364-0e48ac19f595
DTSTAMP:20251216T154145Z
SUMMARY:VB @ Blocktober
LOCATION:Butte Civic Center\, 1340 Harrison Ave\, Butte\, MT 59701\, USA
URL;VALUE=URI:https://www.polson.k12.mt.us/polson-high-school/athletics/cal
 endar/8611999/vb-blocktober
DTSTART;VALUE=DATE:20251010
DTEND;VALUE=DATE:20251012
END:VEVENT
END:VCALENDAR
